BEGIN:VCALENDAR
VERSION:2.0
PRODID:-//Visionz To Life - ECPv6.9.1//NONSGML v1.0//EN
CALSCALE:GREGORIAN
METHOD:PUBLISH
X-WR-CALNAME:Visionz To Life
X-ORIGINAL-URL:https://visionztolife.net
X-WR-CALDESC:Events for Visionz To Life
REFRESH-INTERVAL;VALUE=DURATION:PT1H
X-Robots-Tag:noindex
X-PUBLISHED-TTL:PT1H
BEGIN:VTIMEZONE
TZID:America/New_York
BEGIN:DAYLIGHT
TZOFFSETFROM:-0500
TZOFFSETTO:-0400
TZNAME:EDT
DTSTART:20240310T070000
END:DAYLIGHT
BEGIN:STANDARD
TZOFFSETFROM:-0400
TZOFFSETTO:-0500
TZNAME:EST
DTSTART:20241103T060000
END:STANDARD
END:VTIMEZONE
BEGIN:VEVENT
DTSTART;TZID=America/New_York:20240330T080000
DTEND;TZID=America/New_York:20240330T170000
DTSTAMP:20260423T123047
CREATED:20240729T104139Z
LAST-MODIFIED:20240729T125050Z
UID:3907-1711785600-1711818000@visionztolife.net
SUMMARY:Giving with a Vision
DESCRIPTION:“Giving with a Vision” is a series of community-oriented events organized by Visionz to Life throughout the year. This initiative is dedicated to giving back to various segments of the community\, including the homeless\, women\, families\, children\, schools\, and underprivileged communities. The events under this program focus on providing essential support\, resources\, and assistance to those in need. \n\n\n\n\nActivities may include distributing food and clothing to the homeless\, organizing programs to support women and families\, offering educational resources for children and schools\, and engaging in initiatives that uplift underprivileged communities. “Giving with a Vision” reflects Visionz to Life’s commitment to making a positive impact and fostering a sense of community through acts of kindness and generosity. The events are designed to address diverse needs within the community\, promoting the vision of a more compassionate and supportive society.
URL:https://visionztolife.net/event/giving-with-a-vision/
ATTACH;FMTTYPE=image/webp:https://visionztolife.net/wp-content/uploads/2024/07/Giving-with-a-Vision.webp
END:VEVENT
END:VCALENDAR